BEGIN:VCALENDAR
VERSION:2.0
PRODID:-//Menschlich Wirtschaften - ECPv6.15.20//NONSGML v1.0//EN
CALSCALE:GREGORIAN
METHOD:PUBLISH
X-ORIGINAL-URL:https://menschlichwirtschaften.de
X-WR-CALDESC:Veranstaltungen für Menschlich Wirtschaften
REFRESH-INTERVAL;VALUE=DURATION:PT1H
X-Robots-Tag:noindex
X-PUBLISHED-TTL:PT1H
BEGIN:VTIMEZONE
TZID:Europe/Berlin
BEGIN:DAYLIGHT
TZOFFSETFROM:+0100
TZOFFSETTO:+0200
TZNAME:CEST
DTSTART:20250330T010000
END:DAYLIGHT
BEGIN:STANDARD
TZOFFSETFROM:+0200
TZOFFSETTO:+0100
TZNAME:CET
DTSTART:20251026T010000
END:STANDARD
BEGIN:DAYLIGHT
TZOFFSETFROM:+0100
TZOFFSETTO:+0200
TZNAME:CEST
DTSTART:20260329T010000
END:DAYLIGHT
BEGIN:STANDARD
TZOFFSETFROM:+0200
TZOFFSETTO:+0100
TZNAME:CET
DTSTART:20261025T010000
END:STANDARD
BEGIN:DAYLIGHT
TZOFFSETFROM:+0100
TZOFFSETTO:+0200
TZNAME:CEST
DTSTART:20270328T010000
END:DAYLIGHT
BEGIN:STANDARD
TZOFFSETFROM:+0200
TZOFFSETTO:+0100
TZNAME:CET
DTSTART:20271031T010000
END:STANDARD
END:VTIMEZONE
BEGIN:VEVENT
DTSTART;TZID=Europe/Berlin:20260328T140000
DTEND;TZID=Europe/Berlin:20260328T213000
DTSTAMP:20260425T151645
CREATED:20260223T194944Z
LAST-MODIFIED:20260224T183858Z
UID:10001861-1774706400-1774733400@menschlichwirtschaften.de
SUMMARY:Netzwerk Dreigliederung: Wo liegt die Verantwortung (Mittel-)Europas heute? - Initiative und Zusammenwirken
DESCRIPTION:Das Netzwerktreffen wird 2026 zum ersten Mal gemeinsam mit dem Netzwerk in der Schweiz – Dreigliederung Schweiz – sowie mit dem Netzwerk in Österreich durchgeführt! Wir werden der Frage nachgehen\, ob und wo die Verantwortung (Mittel-)Europas für die aktuellen Herausforderungen unter dem Eindruck des Zeitgeschehens liegt. Dazu wird ab 14 Uhr durch einen Vortrag von Stephan Eisenhut zum Tagungsthema der Markt der Initiativen eröffnet.Auf zahlreichen Ständen werden Initiativen und Projekte ihre Arbeit und Anliegen vorstellen sowie Flyer\, Broschüren und Bücher auslegen. Den Abschluss des Samstages bilden ab 19 Uhr Vorträge mit Aussprache von Fionn Meier (Dreigliederung Schweiz) und Gerald Häfner (Sozialwissenschaftliche Sektion am Goetheanum).Parallel zum Markt der Initiativen finden Symposien (Vortrag mit Diskussion) zur Thematik des Eigentums an Grund und Boden sowie Produktionsmitteln aus der Perspektive der Dreigliederung sowie zu Forschungsfragen der Dreigliederung statt. Die Symposien werden u. a. von Prof. Dr. Christian Kreiß (Aalen)\, Ulrich Kriese (Stiftung Edith Maryon)\, Heidjer Reetz (VIVENDA)\, Hannes Eichinger (Bad Boll)\, Paula Kiefer (Forschungsstudium)\, Jonas Rybak (Forschungsstudium) und Sylvain Coiplet (Institut für soziale Dreigliederung) gehalten.Nähere Informationen findest Du unter Soziale Dreigliederung – VeranstaltungenDie Veranstaltung ist kostenlos. Für diesen öffentlichen Teil ist keine Anmeldung nötig. \n\n\n\n\n\n\n\n\n\n\n\n\n\n\n\n\n\n\n\n\n\n\n\n\nShare on FacebookShare on X (Twitter)Share on WhatsappShare on TelegramCopy LinkLink is Copied!Share on Email
URL:https://menschlichwirtschaften.de/veranstaltung/netzwerk-dreigliederung-wo-liegt-die-verantwortung-mittel-europas-heute/
LOCATION:Parzival Schulzentrum Karlsruhe\, Parzivalstr. 1\, Karlsruhe\, 76139\, Germany
CATEGORIES:Bildung,Konferenz,Vortrag
ATTACH;FMTTYPE=image/jpeg:https://menschlichwirtschaften.de/wp-content/uploads/Logo_Netzwerk_Dreigliederung_Rahmen.jpg
END:VEVENT
END:VCALENDAR