BEGIN:VCALENDAR
VERSION:2.0
PRODID:-//Menschlich Wirtschaften - ECPv6.15.20//NONSGML v1.0//EN
CALSCALE:GREGORIAN
METHOD:PUBLISH
X-WR-CALNAME:Menschlich Wirtschaften
X-ORIGINAL-URL:https://menschlichwirtschaften.de
X-WR-CALDESC:Veranstaltungen für Menschlich Wirtschaften
REFRESH-INTERVAL;VALUE=DURATION:PT1H
X-Robots-Tag:noindex
X-PUBLISHED-TTL:PT1H
BEGIN:VTIMEZONE
TZID:Europe/Berlin
BEGIN:DAYLIGHT
TZOFFSETFROM:+0100
TZOFFSETTO:+0200
TZNAME:CEST
DTSTART:20250330T010000
END:DAYLIGHT
BEGIN:STANDARD
TZOFFSETFROM:+0200
TZOFFSETTO:+0100
TZNAME:CET
DTSTART:20251026T010000
END:STANDARD
BEGIN:DAYLIGHT
TZOFFSETFROM:+0100
TZOFFSETTO:+0200
TZNAME:CEST
DTSTART:20260329T010000
END:DAYLIGHT
BEGIN:STANDARD
TZOFFSETFROM:+0200
TZOFFSETTO:+0100
TZNAME:CET
DTSTART:20261025T010000
END:STANDARD
BEGIN:DAYLIGHT
TZOFFSETFROM:+0100
TZOFFSETTO:+0200
TZNAME:CEST
DTSTART:20270328T010000
END:DAYLIGHT
BEGIN:STANDARD
TZOFFSETFROM:+0200
TZOFFSETTO:+0100
TZNAME:CET
DTSTART:20271031T010000
END:STANDARD
END:VTIMEZONE
BEGIN:VEVENT
DTSTART;TZID=Europe/Berlin:20260208T180000
DTEND;TZID=Europe/Berlin:20260208T193000
DTSTAMP:20260419T163113
CREATED:20260107T170110Z
LAST-MODIFIED:20260107T170111Z
UID:10001821-1770573600-1770579000@menschlichwirtschaften.de
SUMMARY:Triple A Theater: "UNERHÖRT" - Ein musikalisch-theatraler Trip
DESCRIPTION:Das ist ja „UNERHÖRT“!\n\n\n\nDie drei Freundinnen Florentine\, Amanda und Sabine treffen sich zu einem geselligen Abend im Garten. Sie tauschen zunächst alltägliche Neuigkeiten aus. Doch dann beginnen sie einander Unerhörtes zu erzählen. Stufe um Stufe werden ihre Gespräche tiefsinniger und ehrlicher. Warum kennt Florentine\, eine bekannte Schauspielerin\, sich selbst am wenigsten? Warum wird Sabine immer nur auf ihr „Muttersein“ reduziert? Und warum hat die erfolgreiche Businessfrau Amanda Angst\, verrückt zu werden?Singend und tanzend reflektieren die Frauen die sogenannte „Normalität“\, in der sie leben und ergründen die Quellen ihrer Ängste\, die sie davon abhalten\, der Mensch zu werden\, der sie sein könnten. Wünsche und Hoffnungen werden frei gelegt und entdeckt\, welch verborgenes Potenzial in jeder der drei Frauen steckt. Ein musikalisch-theatraler Trip durch Abgründe und Hoffnungen der menschlichen Seele\, der Unerhörtes offenbart. \n\n\n\n\n\n\n\nSpiel: Julia Berke\, Anna Keil und Anja PanseKomposition und Arrangements: Annegret EnderleKostüm: Dinah EhmProduktion: Triple A TheaterBeginn: 18 Uhr\, nachträglicher Einlass nicht möglichTicketpreise und -bestellung: ab 11 Euro p. P.\, Tix for Gigs \n\n\n\nDu möchtest gerne mehr über das Stück selbst und über die Darstellerinnen erfahren und Dich über kommende Aufführungen informieren? Dann besuche uns unter folgenden Links:UNERHÖRTundTriple A Theater \n\n\n\n\n\n\n\nSchon gehört? Triple A Theater e. V. hat jetzt auch einen Förderverein!\n\n\n\nDurch eine Fördermitgliedschaft erhält Triple A Theater e. V. eine solide Basis\, wodurch wir unsere künstlerische Arbeit fortsetzen können. Falls Du mehr über unseren Verein erfahren willst\, schaue bitte unter folgendem Link: \n\n\n\nTriple A Theater Förderverein \n\n\n\nWie kann ich Fördermitglied werden?Bereits ab 108 Euro jährlich kannst Du Fördermitglied bei Triple A Theater e. V. sein! Das ist ungefähr so\, als ob du Triple A einen Eisbecher im Café spendierst\, oder zwei Milchkaffees – also 9 Euro im Monat. Das hört sich doch gut an? Wir freuen uns über jede Unterstützung! Es dürfen natürlich auch mehr als zwei Kaffees im Monat sein.Welche Vorteile habe ich als Fördermitglied?Triple A Theater e. V. ist als gemeinnütziger Verein eingetragen und anerkannt. Wir können somit Spendenbescheinigungen ausstellen\, was sich in jeder Steuererklärung gut macht. Das gilt übrigens sowohl für Geld- als auch für Sachspenden!Außerdem profitierst Du noch von folgenden Vorzügen:1. Exklusive Updates aus dem Arbeitsprozess von Triple A Theater2. Live-Einblicke durch einen Probenbesuch3. Rabatte und Ermäßigungen für ausgewählte Vorstellungen4. Dein Name kommt auf unsere Webseite\, wenn gewünscht5. Jährliches Netzwerktreffen mit Triple A Theater6. Jährliche Spendenbescheinigung7. Sitzplatzreservierungen auf Wunsch \n\n\n\nDarüber hinaus freuen wir uns natürlich auf Deinen Besuch bei unseren Aufführungen und wenn Du uns Deinen Freunden weiterempfiehlst! \n\n\n\n\n\n\n\n\n\n\n\n\n\n\nShare on FacebookShare on X (Twitter)Share on WhatsappShare on TelegramCopy LinkLink is Copied!Share on Email
URL:https://menschlichwirtschaften.de/veranstaltung/triple-a-theater-unerhort-08-02/
LOCATION:Cammerspiele Leipzig\, Kochstr. 132\, Leipzig\, 04277\, Germany
CATEGORIES:Kultur,Musik
ATTACH;FMTTYPE=image/jpeg:https://menschlichwirtschaften.de/wp-content/uploads/UNERHOeRT-1-1.jpg
END:VEVENT
BEGIN:VEVENT
DTSTART;TZID=Europe/Berlin:20260207T200000
DTEND;TZID=Europe/Berlin:20260207T213000
DTSTAMP:20260419T163113
CREATED:20260107T164802Z
LAST-MODIFIED:20260107T164956Z
UID:10001820-1770494400-1770499800@menschlichwirtschaften.de
SUMMARY:Triple A Theater: "UNERHÖRT" - Ein musikalisch-theatraler Trip
DESCRIPTION:Das ist ja „UNERHÖRT“!\n\n\n\nDie drei Freundinnen Florentine\, Amanda und Sabine treffen sich zu einem geselligen Abend im Garten. Sie tauschen zunächst alltägliche Neuigkeiten aus. Doch dann beginnen sie einander Unerhörtes zu erzählen. Stufe um Stufe werden ihre Gespräche tiefsinniger und ehrlicher. Warum kennt Florentine\, eine bekannte Schauspielerin\, sich selbst am wenigsten? Warum wird Sabine immer nur auf ihr „Muttersein“ reduziert? Und warum hat die erfolgreiche Businessfrau Amanda Angst\, verrückt zu werden?Singend und tanzend reflektieren die Frauen die sogenannte „Normalität“\, in der sie leben und ergründen die Quellen ihrer Ängste\, die sie davon abhalten\, der Mensch zu werden\, der sie sein könnten. Wünsche und Hoffnungen werden frei gelegt und entdeckt\, welch verborgenes Potenzial in jeder der drei Frauen steckt. Ein musikalisch-theatraler Trip durch Abgründe und Hoffnungen der menschlichen Seele\, der Unerhörtes offenbart. \n\n\n\n\n\n\n\nSpiel: Julia Berke\, Anna Keil und Anja PanseKomposition und Arrangements: Annegret EnderleKostüm: Dinah EhmProduktion: Triple A TheaterBeginn: 20 Uhr\, nachträglicher Einlass nicht möglichTicketpreise und -bestellung: ab 11 Euro p. P.\, Tix for Gigs \n\n\n\nDu möchtest gerne mehr über das Stück selbst und über die Darstellerinnen erfahren und Dich über kommende Aufführungen informieren? Dann besuche uns unter folgenden Links:UNERHÖRTundTriple A Theater \n\n\n\n\n\n\n\nSchon gehört? Triple A Theater e. V. hat jetzt auch einen Förderverein!\n\n\n\nDurch eine Fördermitgliedschaft erhält Triple A Theater e. V. eine solide Basis\, wodurch wir unsere künstlerische Arbeit fortsetzen können. Falls Du mehr über unseren Verein erfahren willst\, schaue bitte unter folgendem Link: \n\n\n\nTriple A Theater Förderverein \n\n\n\nWie kann ich Fördermitglied werden?Bereits ab 108 Euro jährlich kannst Du Fördermitglied bei Triple A Theater e. V. sein! Das ist ungefähr so\, als ob du Triple A einen Eisbecher im Café spendierst\, oder zwei Milchkaffees – also 9 Euro im Monat. Das hört sich doch gut an? Wir freuen uns über jede Unterstützung! Es dürfen natürlich auch mehr als zwei Kaffees im Monat sein.Welche Vorteile habe ich als Fördermitglied?Triple A Theater e. V. ist als gemeinnütziger Verein eingetragen und anerkannt. Wir können somit Spendenbescheinigungen ausstellen\, was sich in jeder Steuererklärung gut macht. Das gilt übrigens sowohl für Geld- als auch für Sachspenden!Außerdem profitierst Du noch von folgenden Vorzügen:1. Exklusive Updates aus dem Arbeitsprozess von Triple A Theater2. Live-Einblicke durch einen Probenbesuch3. Rabatte und Ermäßigungen für ausgewählte Vorstellungen4. Dein Name kommt auf unsere Webseite\, wenn gewünscht5. Jährliches Netzwerktreffen mit Triple A Theater6. Jährliche Spendenbescheinigung7. Sitzplatzreservierungen auf Wunsch \n\n\n\nDarüber hinaus freuen wir uns natürlich auf Deinen Besuch bei unseren Aufführungen und wenn Du uns Deinen Freunden weiterempfiehlst! \n\n\n\n\n\n\n\n\n\n\n\n\n\n\nShare on FacebookShare on X (Twitter)Share on WhatsappShare on TelegramCopy LinkLink is Copied!Share on Email
URL:https://menschlichwirtschaften.de/veranstaltung/triple-a-theater-unerhort-07-02/
LOCATION:Cammerspiele Leipzig\, Kochstr. 132\, Leipzig\, 04277\, Germany
CATEGORIES:Kultur,Musik
ATTACH;FMTTYPE=image/jpeg:https://menschlichwirtschaften.de/wp-content/uploads/UNERHOeRT-1-1.jpg
END:VEVENT
END:VCALENDAR