BEGIN:VCALENDAR
VERSION:2.0
PRODID:-//Menschlich Wirtschaften - ECPv6.15.20//NONSGML v1.0//EN
CALSCALE:GREGORIAN
METHOD:PUBLISH
X-WR-CALNAME:Menschlich Wirtschaften
X-ORIGINAL-URL:https://menschlichwirtschaften.de
X-WR-CALDESC:Veranstaltungen für Menschlich Wirtschaften
REFRESH-INTERVAL;VALUE=DURATION:PT1H
X-Robots-Tag:noindex
X-PUBLISHED-TTL:PT1H
BEGIN:VTIMEZONE
TZID:Europe/Berlin
BEGIN:DAYLIGHT
TZOFFSETFROM:+0100
TZOFFSETTO:+0200
TZNAME:CEST
DTSTART:20240331T010000
END:DAYLIGHT
BEGIN:STANDARD
TZOFFSETFROM:+0200
TZOFFSETTO:+0100
TZNAME:CET
DTSTART:20241027T010000
END:STANDARD
BEGIN:DAYLIGHT
TZOFFSETFROM:+0100
TZOFFSETTO:+0200
TZNAME:CEST
DTSTART:20250330T010000
END:DAYLIGHT
BEGIN:STANDARD
TZOFFSETFROM:+0200
TZOFFSETTO:+0100
TZNAME:CET
DTSTART:20251026T010000
END:STANDARD
BEGIN:DAYLIGHT
TZOFFSETFROM:+0100
TZOFFSETTO:+0200
TZNAME:CEST
DTSTART:20260329T010000
END:DAYLIGHT
BEGIN:STANDARD
TZOFFSETFROM:+0200
TZOFFSETTO:+0100
TZNAME:CET
DTSTART:20261025T010000
END:STANDARD
END:VTIMEZONE
BEGIN:VEVENT
DTSTART;TZID=Europe/Berlin:20251203T183000
DTEND;TZID=Europe/Berlin:20251203T203000
DTSTAMP:20260419T190918
CREATED:20251130T091538Z
LAST-MODIFIED:20251130T091538Z
UID:10001729-1764786600-1764793800@menschlichwirtschaften.de
SUMMARY:Biozyklische Humuserde\, Kompost und das Mikrobiom
DESCRIPTION:Ein Vortrag für Menschen\, die sich für nachhaltigen Pflanzenanbau interessieren – mit Ulrike B. Rapp (Dipl.-Ing. agr.)\n\n\n\nAuf biozyklischer Humuserde anzubauen bedeutet man braucht überhaupt keinen Dünger mehr. Und das bei 2-3 fachen Erntemengen. Die Vitalität und der hervorragende Geschmack des Gemüses sind Ausdruck der besonderen Qualität der Erde. – Was steckt dahinter? –Das Prinzip Gesunder Boden – Gesunde Pflanze – Gesunder Mensch wird mit dieser Erde auf eine neue Stufe gehoben. Grund dafür: das Mikrobiom in dieser neuartigen\, natürlichen und stabilen\, CO2 bindenden Humussubstanz.An diesem Abend soll es auch um eine Strategie zur Organisation eines lokalen/regionalen Humuserdenetzwerkes gehen\, so dass jeder\, der es möchte\, sein Gemüse auf biozyklischer Humuserde anbauen kann.Preis: Um eine Spende für die Vortragskosten wird gebeten\, gewünscht sind 10 Euro pro Person.Kontakt für Rückfragen und Anmeldung: Ulrike B. Rapp ulrikebrapp@gmail.com \n\n\n\n\n\n\n\n\n\n\n\n\n\n\n\n\n\n\n\n\n\n\n\n\nShare on FacebookShare on X (Twitter)Share on WhatsappShare on TelegramCopy LinkLink is Copied!Share on Email
URL:https://menschlichwirtschaften.de/veranstaltung/biozyklische-humuserde-kompost-und-das-mikrobiom-3/
LOCATION:Bei WISSENmachtRUNDE\, Hüxstr. 97\, Lübeck\, 23552\, Germany
CATEGORIES:Bildung,Gesundheit,Vortrag
ATTACH;FMTTYPE=image/jpeg:https://menschlichwirtschaften.de/wp-content/uploads/bq9y93kdk4c-e1757323014522.jpg
END:VEVENT
END:VCALENDAR